BEGIN:VCALENDAR
VERSION:2.0
PRODID:-//Outdoors SA - ECPv6.6.0.2//NONSGML v1.0//EN
CALSCALE:GREGORIAN
METHOD:PUBLISH
X-WR-CALNAME:Outdoors SA
X-ORIGINAL-URL:https://outdoorssa.org.au
X-WR-CALDESC:Events for Outdoors SA
REFRESH-INTERVAL;VALUE=DURATION:PT1H
X-Robots-Tag:noindex
X-PUBLISHED-TTL:PT1H
BEGIN:VTIMEZONE
TZID:Australia/Adelaide
BEGIN:STANDARD
TZOFFSETFROM:+1030
TZOFFSETTO:+0930
TZNAME:ACST
DTSTART:20210403T163000
END:STANDARD
BEGIN:DAYLIGHT
TZOFFSETFROM:+0930
TZOFFSETTO:+1030
TZNAME:ACDT
DTSTART:20211002T163000
END:DAYLIGHT
END:VTIMEZONE
BEGIN:VEVENT
DTSTART;TZID=Australia/Adelaide:20210908T103000
DTEND;TZID=Australia/Adelaide:20210908T113000
DTSTAMP:20260424T011359
CREATED:20210906T062119Z
LAST-MODIFIED:20210906T062119Z
UID:1273-1631097000-1631100600@outdoorssa.org.au
SUMMARY:Mid Week Training Mack Creek - Orienteering SA
DESCRIPTION:Wed Sep 8th – Mack Creek\, near Para Wirra NP\nStart Times – 10:30 AM to 11:30 AM\nPre-entry is required by Monday 6th Sep at 1 PM\nOpen to the general public\, some orienteering experience is required.\nEvent Link https://eventor.orienteering.asn.au/Events/Show/15289
URL:https://outdoorssa.org.au/calendar-event/mid-week-training-mack-creek-orienteering-sa/
LOCATION:Mack Creek\, near Para Wirra National Park\, Frank Barker Road\, Humbug Scrub\, SA\, 5114\, Australia
CATEGORIES:Orienteering
END:VEVENT
END:VCALENDAR