BEGIN:VCALENDAR
VERSION:2.0
PRODID:-//Outdoors SA - ECPv6.6.0.2//NONSGML v1.0//EN
CALSCALE:GREGORIAN
METHOD:PUBLISH
X-ORIGINAL-URL:https://outdoorssa.org.au
X-WR-CALDESC:Events for Outdoors SA
REFRESH-INTERVAL;VALUE=DURATION:PT1H
X-Robots-Tag:noindex
X-PUBLISHED-TTL:PT1H
BEGIN:VTIMEZONE
TZID:Australia/Adelaide
BEGIN:STANDARD
TZOFFSETFROM:+1030
TZOFFSETTO:+0930
TZNAME:ACST
DTSTART:20220402T163000
END:STANDARD
BEGIN:DAYLIGHT
TZOFFSETFROM:+0930
TZOFFSETTO:+1030
TZNAME:ACDT
DTSTART:20221001T163000
END:DAYLIGHT
END:VTIMEZONE
BEGIN:VEVENT
DTSTART;VALUE=DATE:20221021
DTEND;VALUE=DATE:20221024
DTSTAMP:20260423T025237
CREATED:20210914T032953Z
LAST-MODIFIED:20210914T032953Z
UID:1289-1666310400-1666569599@outdoorssa.org.au
SUMMARY:AABAT Forum 2022 - Venturing Out\, Journeying Within (moved from 2021)
DESCRIPTION:This year’s theme for the Australian Association for Bush Adventure Therapy (AABAT) National Forum 2022 is ‘Venturing Out\, Journeying Within’\, a theme which challenges us to practice what we preach about the practical application of outdoor\, nature-based experiences for the purpose of healing and enhancing our health and well-being. \n\nAABAT NATIONAL FORUM DATE CONFIRMED FOR 2022\n\n\nAABAT are excited to announce that the new AABAT Forum 2022 – Venturing Out\, Journeying Within is now scheduled for 21-23 October 2022! Same location\, at the Mylor Adventure camp in the beautiful Adelaide Hills of South Australia.\n\n\nFor staying the course with us\, we are extending current registration prices if you register in the next few weeks (until 30 September) – so you can still grab a bargain basement registration rate before there is a small price adjustment from 1 October.\n\n\nAnother reason to register now is that along with existing registrants you will also go into the draw to win a ticket to a pre-forum workshop of your choice on the Friday of the forum!\n\n\nThe volunteer planning committee look forward to enjoying a well earned breather over the summer and resume planning in the new year to bring you a brilliant event in 2022!\n\n\n\nDon’t forget to keep an eye out on the emerging presenter line up and program updates here – https://forum.aabat.org.au/ \n\n\n\n.
URL:https://outdoorssa.org.au/calendar-event/aabat-forum-2022-venturing-out-journeying-within-moved-from-2021/
LOCATION:Mylor Adventure Camp
CATEGORIES:Conference,Training Course
END:VEVENT
END:VCALENDAR