BEGIN:VCALENDAR
VERSION:2.0
PRODID:-//Outdoors SA - ECPv6.6.0.2//NONSGML v1.0//EN
CALSCALE:GREGORIAN
METHOD:PUBLISH
X-WR-CALNAME:Outdoors SA
X-ORIGINAL-URL:https://outdoorssa.org.au
X-WR-CALDESC:Events for Outdoors SA
REFRESH-INTERVAL;VALUE=DURATION:PT1H
X-Robots-Tag:noindex
X-PUBLISHED-TTL:PT1H
BEGIN:VTIMEZONE
TZID:Australia/Adelaide
BEGIN:STANDARD
TZOFFSETFROM:+1030
TZOFFSETTO:+0930
TZNAME:ACST
DTSTART:20190406T163000
END:STANDARD
BEGIN:DAYLIGHT
TZOFFSETFROM:+0930
TZOFFSETTO:+1030
TZNAME:ACDT
DTSTART:20191005T163000
END:DAYLIGHT
BEGIN:STANDARD
TZOFFSETFROM:+1030
TZOFFSETTO:+0930
TZNAME:ACST
DTSTART:20200404T163000
END:STANDARD
BEGIN:DAYLIGHT
TZOFFSETFROM:+0930
TZOFFSETTO:+1030
TZNAME:ACDT
DTSTART:20201003T163000
END:DAYLIGHT
BEGIN:STANDARD
TZOFFSETFROM:+1030
TZOFFSETTO:+0930
TZNAME:ACST
DTSTART:20210403T163000
END:STANDARD
BEGIN:DAYLIGHT
TZOFFSETFROM:+0930
TZOFFSETTO:+1030
TZNAME:ACDT
DTSTART:20211002T163000
END:DAYLIGHT
TZID:Australia/Melbourne
BEGIN:STANDARD
TZOFFSETFROM:+1100
TZOFFSETTO:+1000
TZNAME:AEST
DTSTART:20210403T160000
END:STANDARD
BEGIN:DAYLIGHT
TZOFFSETFROM:+1000
TZOFFSETTO:+1100
TZNAME:AEDT
DTSTART:20211002T160000
END:DAYLIGHT
END:VTIMEZONE
BEGIN:VEVENT
DTSTART;TZID=Australia/Adelaide:20211121T093000
DTEND;TZID=Australia/Adelaide:20211121T160000
DTSTAMP:20260423T080743
CREATED:20211014T085643Z
LAST-MODIFIED:20211014T085643Z
UID:1341-1637487000-1637510400@outdoorssa.org.au
SUMMARY:2021 Club Development Conference
DESCRIPTION:2021 Club Development Conference\nThe last couple of years have changed the game for the sport and recreation sector. Increased lifestyle pressures\, evolving social norms and the rise of technology have had a significant impact on how sport and recreation organisations operate and how members can thrive in a club environment. \nTo prepare you and your club for what’s ahead\, the Office for Recreation\, Sport and Racing is hosting a Club Development Conference. A line-up of industry experts will provide the latest insights on innovation\, marketing and governance applicable to sport and recreation. \nWe encourage multiple members of your club/organisation to attend (tickets become discounted when three or more attendees register). \nTickets for the conference also include morning tea on arrival\, lunch and afternoon tea. \nFor those who cannot attend the conference at Adelaide Oval\, tickets are available to stream the conference live. Please note you will not be able to interact during the sessions. \nWhat: 2021 Club Development Conference\nWhen: Sunday 21 November 2021 | 9:30am – 4:00pm\nWhere: Adelaide Oval | Ian McLachlan Room\nCost: $30.00 for 1 ticket; $60.00 for 2 tickets; $75.00 for 3 tickets; $90.00 for 4 tickets (excluding GST) or $10 (online) \nAll details here: \nhttps://www.orsr.sa.gov.au/sport_and_recreation/club-development-conference
URL:https://outdoorssa.org.au/calendar-event/2021-club-development-conference/
LOCATION:Adelaide Oval\, War Memorial Drive\, Adelaide\, South Australia\, 5006\, Australia
CATEGORIES:Conference,Training Course
END:VEVENT
BEGIN:VEVENT
DTSTART;VALUE=DATE:20211105
DTEND;VALUE=DATE:20211108
DTSTAMP:20260423T080743
CREATED:20211008T052840Z
LAST-MODIFIED:20211008T052840Z
UID:2167-1636070400-1636329599@outdoorssa.org.au
SUMMARY:Remote Area First Aid Course 5-7 NOV 2021 - Big Heart Adventures
DESCRIPTION:Remote Area First Aid Course 5-7 NOV 2021\n$450.00 \n\n3 DAY SESSIONS | 5 NOV – 7 NOV 2021\n\nOverview\nBig Heart Adventures is hosting a remote area first aid course. \nThis course delivered by Peter Kerrison from Red Cross aims to equip participants with qualifications in Remote Area First Aid and include incident management scenarios when working in outdoor leadership roles.   Training is provided both in classroom and in the field at Belair National Park over 3 practical days.  This course would also suit those who venture remotely for leisure and would like to have training in Remote Area First Aid. \nFull details and bookings can be found here: https://bigheartadventures.com.au/product/remote-area-first-aid-course-5-7-nov-2021/ \nUnits Covered Include: \nHLTAID003 Provide First Aid Blended\nHLTAID005 Provide First Aid In Remote Situations \nSecure your spot today for $450pp. Payment options are via credit card or direct deposit. \nMinimum numbers apply for this course to proceed – maximum participants 18. \nHosted by
URL:https://outdoorssa.org.au/calendar-event/remote-area-first-aid-course-5-7-nov-2021-big-heart-adventures/
CATEGORIES:Training Course
END:VEVENT
BEGIN:VEVENT
DTSTART;VALUE=DATE:20211030
DTEND;VALUE=DATE:20211031
DTSTAMP:20260423T080743
CREATED:20211014T054740Z
LAST-MODIFIED:20211014T054740Z
UID:1338-1635552000-1635638399@outdoorssa.org.au
SUMMARY:Halloween Vampire O
DESCRIPTION:Evening event with a Halloween theme\nEvent Link – https://eventor.orienteering.asn.au/Events/Show/16222
URL:https://outdoorssa.org.au/calendar-event/halloween-vampire-o/
LOCATION:West Terrace\, 161 West Terrace\, Adelaide\, SA\, 5000\, Australia
CATEGORIES:Orienteering
END:VEVENT
BEGIN:VEVENT
DTSTART;TZID=Australia/Melbourne:20211026T140000
DTEND;TZID=Australia/Melbourne:20211026T150000
DTSTAMP:20260423T080743
CREATED:20211022T041322Z
LAST-MODIFIED:20211022T041322Z
UID:1344-1635256800-1635260400@outdoorssa.org.au
SUMMARY:AB Phillips Insurance Industry Update & Online Member Catch Up ACA
DESCRIPTION:AB Phillips Insurance Industry Update \n\n\n\n\n\n\n\n\n\nTuesday 26th October 2021\, 2pm (AEDT) via ZOOM. \n \n\n\nAB Phillips will present a market update and navigate through the existing challenges the industry is currently facing. \n\n\nThis session will be similar to that shown at the ACA National Conference in 2021. \n\n\nAbout Mark:Mark is AB Phillips’ Director\, General Insurance and has more than 20 years experience in General Insurance and Workers Compensation broking. Mark has a wealth of experience in insurance and among other areas specialises in the camp and leisure industry. His expert advice in insurance and risk management is very highly regarded. In 2008 he was awarded Victorian Young Professional Broker of the Year. \n\nHosted by the Australian Camps Association \nRegister via link \nhttps://auscamps-asn-au.zoom.us/meeting/register/tZ0lceCoqTgiH9GgJ3v6jf2YzAeDpk7v9V-E
URL:https://outdoorssa.org.au/calendar-event/ab-phillips-insurance-industry-update-online-member-catch-up-aca/
CATEGORIES:Training Course
END:VEVENT
BEGIN:VEVENT
DTSTART;TZID=Australia/Adelaide:20211024T100000
DTEND;TZID=Australia/Adelaide:20211024T170000
DTSTAMP:20260423T080743
CREATED:20211014T045510Z
LAST-MODIFIED:20211014T045510Z
UID:1335-1635069600-1635094800@outdoorssa.org.au
SUMMARY:MapRun Spring Series – Sturt Gorge to Blackwood Hills area
DESCRIPTION:Sunday\, Oct 24th – MapRun Spring Series – Sturt Gorge to Blackwood Hills area\nStart Times – Do in Your Own time after maps are available at the event website\nEvent link – https://eventor.orienteering.asn.au/Events/Show/16397
URL:https://outdoorssa.org.au/calendar-event/maprun-spring-series-sturt-gorge-to-blackwood-hills-area/
LOCATION:Blackwood Hill Reserve\, 14 Brookman Cresent\, Craigburn Farm\, SA\, 5051\, Australia
CATEGORIES:Orienteering
END:VEVENT
BEGIN:VEVENT
DTSTART;TZID=Australia/Adelaide:20211020T103000
DTEND;TZID=Australia/Adelaide:20211020T113000
DTSTAMP:20260423T080743
CREATED:20211014T042421Z
LAST-MODIFIED:20211014T042421Z
UID:1333-1634725800-1634729400@outdoorssa.org.au
SUMMARY:Mid Week Training Mt Crawford\, Jenkins Scrub
DESCRIPTION:Mid Week Training Mt Crawford\, Jenkins Scrub\nStart Times – 10:30 AM to 11:30 AM\nPre-entry is required by Monday 18th Oct\nOpen to the general public\, some orienteering experience required.\nEvent Link – https://eventor.orienteering.asn.au/Events/Show/15290
URL:https://outdoorssa.org.au/calendar-event/mid-week-training-mt-crawford-jenkins-scrub/
LOCATION:Mount Crawford Forest\, Warren Rd\, Mount Crawford\, SA\, 5351\, Australia
CATEGORIES:Orienteering
END:VEVENT
BEGIN:VEVENT
DTSTART;TZID=Australia/Adelaide:20211017T100000
DTEND;TZID=Australia/Adelaide:20211017T113000
DTSTAMP:20260423T080743
CREATED:20211014T041848Z
LAST-MODIFIED:20211014T041848Z
UID:2168-1634464800-1634470200@outdoorssa.org.au
SUMMARY:MapRun Spring Series – Bonython Park - Orienteering
DESCRIPTION:Sunday Oct 17th – MapRun Spring Series – Bonython Park\nStart Times – 10 AM to 11:30 AM\nMaps can be ordered by Thursday Oct 14th\, or downloaded prior to the event from the event site.\nhttps://eventor.orienteering.asn.au/Events/Show/16396
URL:https://outdoorssa.org.au/calendar-event/maprun-spring-series-bonython-park-orienteering/
CATEGORIES:Orienteering
END:VEVENT
BEGIN:VEVENT
DTSTART;VALUE=DATE:20211015
DTEND;VALUE=DATE:20211018
DTSTAMP:20260423T080743
CREATED:20210722T065502Z
LAST-MODIFIED:20210722T065502Z
UID:1243-1634256000-1634515199@outdoorssa.org.au
SUMMARY:Australian Association for Bush Adventure Therapy – National Forum – Mylor\, South Australia 2021
DESCRIPTION:Australian Association for Bush Adventure Therapy – National Forum – Mylor\, South Australia 2021\nThis year’s theme for the Australian Association of Bush Adventure Therapy (AABAT) National Forum 2021 is ‘Venturing Out\, Journeying Within’\, a theme which challenges us to practice what we preach about the practical application of outdoor\, nature-based experiences for the purpose of healing and enhancing our health and well-being. \nThis year’s Forum will focus on sharing the myriad of therapeutic experiences that can be delivered through outdoor experiential journeys and nature-based health practices. Many of these approaches and improving wellbeing are being practiced in combination with mainstream approaches to health care\, as well as complimentary and allied health and indigenous on-country approaches. These kinds of practices are being used across the life course\, from early childhood resilience-building\, youth at risk interventions\, post-traumatic growth\, disability life enhancement\, family therapy\, suicide prevention\, recovery from domestic violence\, workplace wellness\, team and leadership development\, to aging well\, and more. \n \nEvent Date: 15-10-2021 – 17-10-2021 \nEvent Location: Mylor Adventure Camp \nFind out more
URL:https://outdoorssa.org.au/calendar-event/australian-association-for-bush-adventure-therapy-national-forum-mylor-south-australia-2021/
LOCATION:Mylor Adventure Camp
CATEGORIES:Conference,Training Course
END:VEVENT
BEGIN:VEVENT
DTSTART;VALUE=DATE:20211013
DTEND;VALUE=DATE:20211015
DTSTAMP:20260423T080743
CREATED:20210722T065916Z
LAST-MODIFIED:20210722T065916Z
UID:1248-1634083200-1634255999@outdoorssa.org.au
SUMMARY:OUTDOOR HEALTH NATIONAL SYMPOSIUM in SA
DESCRIPTION:Outdoor Health – A Natural Necessity \nSave the Dates: Wednesday 13 – and Thursday 14 October 2021. Save Friday 15 October to join in the work of an Outdoor Health Working Group. \nLocation: The Symposium will be held in Adelaide’s University and Innovation Precinct located on the banks of the Torrens River\, known as Karrawirra Pari (Red Gum River) on Kaurna Country. \nTheme: Around the world\, humans are either responding to threats posed by covid-19\, or beginning to establish a new ‘post-covid normal’. Meanwhile\, rates of species extinction are reaching alarming levels\, and the effects of climate change are being experienced first-hand by many. Just like sea levels\, rates of human physical\, mental\, and social ill health continue to rise. This culmination of human-nature and planetary change calls for a new normal\, or perhaps a remembering of old ways\, and makes approaches like Outdoor Health a natural necessity. \nInformation will be on the Outdoor Healthcare Website soon\, visit: outdoorhealthcare.org.au \n\n\n\nHosted and sponsored by the Australian Association for Bush Adventure Therapy Inc.\nhttps://aabat.org.au
URL:https://outdoorssa.org.au/calendar-event/outdoor-health-national-symposium-in-sa/
LOCATION:Adelaide’s University and Innovation Precinct\, Adelaide\, South Australia – and Online
CATEGORIES:Conference,Training Course
END:VEVENT
BEGIN:VEVENT
DTSTART;TZID=Australia/Adelaide:20210929T103000
DTEND;TZID=Australia/Adelaide:20210929T160000
DTSTAMP:20260423T080743
CREATED:20210825T101033Z
LAST-MODIFIED:20210825T101033Z
UID:1265-1632911400-1632931200@outdoorssa.org.au
SUMMARY:National Outdoor Education Conference PRECURSOR (Online)
DESCRIPTION:Get a taste for the big event (NOEC 2022) and also be more informed about the year ahead with this online event specifically for the Outdoor education sector.\n\n\nAn event not to be missed for Outdoor Educators\, Parents\, Teachers\, Therapists and Community Leaders:\n\n\nWelcome to Country by Yvonne Weldon and presenters Commissioner Shane Fitzsimmons\, Professor Sharon Goldfeld\, Professor Pasi Sahlberg\, Janice Atkin ACARA CEO David de Carvalho\, Mark Collard Amanda Greggory Lloyd and many others. The star-studded line up of world-experts will help us navigate the path forward and offer some insights which have been gleaned from their recent encounters.\n\nThe Outdoor Council of Australia will be providing an update on the National Outdoors Summit and the key topics being investigated by the various working groups. \nWe encourage all members of the outdoors sector in South Australia to sign up and join in. \n \nTime & Location\n29 Sep\, 10:30 am – 4:00 pm AEST\nZOOM WEBINAR \nBook online here \nAbout the Event\nAs recently advised\, the current COVID-19 situation has forced the postponement of the main event until September 2022\, but we are delighted to bring all our industry and participants to the NOEC “Precursor” event via an online experience. \nThis event will run from 10:30am am to 4:00 pm (AEST) on 29th September 2021\, with breaks following each session so there is time for delegates to fit a little work in between or times to grab a cuppa. \nTopics will include an expert panel on the learnings navigating fires and COVID-19 including Shane Fitzsimmons AFSM\, ACARA Curriculum Review with CEO David de Carvalho\, updates from the OCA Summit\, and Working Groups\, Nature Play Innovations with Pasi Sahlberg\, and the Outdoor Education Awards. \nAll registrations that have booked and paid for NOEC 2022 prior to the 25th of July will receive the link to join this session. \nIf you haven’t booked your NOEC 2022 tickets as yet\, you can still be part of this special event for $30 per person including all fees. \nBook online here. \n \n\nLessons Learnt During Hard Times:\n\n\n\n\n\n\n\nLeadership is straightforward when things are going well\, but true leaders emerge when the going gets tough. Whilst 2020-2021 was pretty much a disaster for outdoor educators\, it was also especially hard for students from low SES or marginalised communities. COVID-19 and the Black Summer Bushfires gave time to push the reset button and reflect on what matters most. It became abundantly clear that recent disasters not only break us\, it revealed that wider systemic factors were already broken.\n\n\n\n\nShane Fitzsimmons is now the Head of Resilience NSW and previously the Commissioner of the New South Wales Rural Fire Service between September 2007 and April 2020 (during the Black Summer Fires). As an acclaimed leader\, will share his wisdom and offer concrete ideas to navigate our way forward as a resilient community. \nProfessor Sharon Goldfeld is a paediatrician\, public health physician\, and Co-Group Leader of Policy and Equity at the Murdoch Children’s Research Institute and Director of the Centre for Community Child Health at The Royal Children’s Hospital Melbourne. Her research program focuses on investigating\, testing and translating sustainable policy relevant solutions that eliminate inequities for Australia’s children. One positive aspect to emerge for Prof Sharon Goldfeld was ‘COVID taught us we can do slow system change\, fast’. She will speak about what needs to happen in 2021 and beyond in terms of child wellbeing and equity. \nProfessor Pasi Sahlberg\, now lives with his family in Australia and is at the Gonski Institute UNSW. As a schoolteacher\, teacher-educator\, researcher\, and policy advisor in Finland\, Pasi will talk about Growing Up Digital and the impact on Australia’s school children. His career includes senior education specialist at the Finland’s National Board of Education\, World Bank in Washington\, DC\, lead education specialist at the European Training Foundation in Torino (Italy)\, director general of the Ministry of Education and Culture (CIMO) in Finland\, and a visiting professor at Harvard University. Pasi has served as a commissioner in the Swedish School Commission\, advisor to the Minister of Education in Malta\, and Minister of Education in Finland.
URL:https://outdoorssa.org.au/calendar-event/national-outdoor-education-conference-precursor-online/
CATEGORIES:Training Course
END:VEVENT
BEGIN:VEVENT
DTSTART;TZID=Australia/Adelaide:20210919T100000
DTEND;TZID=Australia/Adelaide:20210919T113000
DTSTAMP:20260423T080743
CREATED:20210906T063809Z
LAST-MODIFIED:20210906T063809Z
UID:1279-1632045600-1632051000@outdoorssa.org.au
SUMMARY:O'Halloran Hill - Glenthorne Park - Orienteering SA
DESCRIPTION:Sunday 19th Sep – O’Halloran Hill part of Glenthorne NP\nStart Times – 10 AM to 11:30 AM\nPre-entry is required by Wednesday evening 15th Sep. Open to the general public\, with a range of courses suitable for those with orienteering experience and newcomers\nhttps://eventor.orienteering.asn.au/Events/Show/16112
URL:https://outdoorssa.org.au/calendar-event/ohalloran-hill-glenthorne-park-orienteering-sa/
CATEGORIES:Orienteering
END:VEVENT
BEGIN:VEVENT
DTSTART;TZID=Australia/Adelaide:20210912T100000
DTEND;TZID=Australia/Adelaide:20210912T120000
DTSTAMP:20260423T080743
CREATED:20210906T062704Z
LAST-MODIFIED:20210906T062704Z
UID:1276-1631440800-1631448000@outdoorssa.org.au
SUMMARY:Narrinyeri Hills (Kinchina Conservation Park) - Orienteering SA
DESCRIPTION:Sunday Sep 12th – Narrinyeri Hills (Kinchina CP)\, west of Murray Bridge\nStart Times – 10 AM to 12 noon\nPre-entry is required by Wednesday evening 8th Sep. Open to the general public\, with a range of courses suitable for those with orienteering experience and newcomers\nEvent link – https://eventor.orienteering.asn.au/Events/Show/11052
URL:https://outdoorssa.org.au/calendar-event/narrinyeri-hills-kinchina-conservation-park-orienteering-sa/
LOCATION:Rocky Gully\, South Australia 5254\, Rocky Gully\, Murray Bridge\, SA\, 5254\, Australia
CATEGORIES:Orienteering
END:VEVENT
BEGIN:VEVENT
DTSTART;TZID=Australia/Adelaide:20210908T103000
DTEND;TZID=Australia/Adelaide:20210908T113000
DTSTAMP:20260423T080743
CREATED:20210906T062119Z
LAST-MODIFIED:20210906T062119Z
UID:1273-1631097000-1631100600@outdoorssa.org.au
SUMMARY:Mid Week Training Mack Creek - Orienteering SA
DESCRIPTION:Wed Sep 8th – Mack Creek\, near Para Wirra NP\nStart Times – 10:30 AM to 11:30 AM\nPre-entry is required by Monday 6th Sep at 1 PM\nOpen to the general public\, some orienteering experience is required.\nEvent Link https://eventor.orienteering.asn.au/Events/Show/15289
URL:https://outdoorssa.org.au/calendar-event/mid-week-training-mack-creek-orienteering-sa/
LOCATION:Mack Creek\, near Para Wirra National Park\, Frank Barker Road\, Humbug Scrub\, SA\, 5114\, Australia
CATEGORIES:Orienteering
END:VEVENT
BEGIN:VEVENT
DTSTART;TZID=Australia/Adelaide:20191019T090000
DTEND;TZID=Australia/Adelaide:20191019T120000
DTSTAMP:20260423T080743
CREATED:20190708T040511Z
LAST-MODIFIED:20190708T040511Z
UID:1116-1571475600-1571486400@outdoorssa.org.au
SUMMARY:Get Into Paddling
DESCRIPTION:
URL:https://outdoorssa.org.au/calendar-event/get-into-paddling/
LOCATION:West Lakes\, Aquatic Reserve\, Bower Road\, West Lakes\, South Australia\, 5021\, Australia
CATEGORIES:Canoeing/Kayaking
END:VEVENT
BEGIN:VEVENT
DTSTART;TZID=Australia/Adelaide:20191019T084500
DTEND;TZID=Australia/Adelaide:20191019T160000
DTSTAMP:20260423T080743
CREATED:20190708T040633Z
LAST-MODIFIED:20190708T040633Z
UID:1118-1571474700-1571500800@outdoorssa.org.au
SUMMARY:PAQS Basic Skills Certificate
DESCRIPTION:
URL:https://outdoorssa.org.au/calendar-event/paqs-basic-skills-certificate/
LOCATION:West Lakes\, Aquatic Reserve\, Bower Road\, West Lakes\, South Australia\, 5021\, Australia
CATEGORIES:Canoeing/Kayaking,Training Course
END:VEVENT
BEGIN:VEVENT
DTSTART;VALUE=DATE:20190930
DTEND;VALUE=DATE:20191002
DTSTAMP:20260423T080743
CREATED:20190708T040411Z
LAST-MODIFIED:20190708T040411Z
UID:1113-1569801600-1569974399@outdoorssa.org.au
SUMMARY:OEASA Riverland PD Program
DESCRIPTION:
URL:https://outdoorssa.org.au/calendar-event/oeasa-riverland-pd-program/
LOCATION:Morgan\, Scott's Creek Campsite\, Morgan\, SA\, Australia
CATEGORIES:Canoeing/Kayaking,Training Course
END:VEVENT
BEGIN:VEVENT
DTSTART;VALUE=DATE:20190929
DTEND;VALUE=DATE:20191003
DTSTAMP:20260423T080743
CREATED:20190708T035402Z
LAST-MODIFIED:20190708T035402Z
UID:1105-1569715200-1570060799@outdoorssa.org.au
SUMMARY:International Camp Directors Course
DESCRIPTION:
URL:https://outdoorssa.org.au/calendar-event/international-camp-directors-course/
CATEGORIES:Training Course
END:VEVENT
BEGIN:VEVENT
DTSTART;VALUE=DATE:20190927
DTEND;VALUE=DATE:20191004
DTSTAMP:20260423T080743
CREATED:20190708T034813Z
LAST-MODIFIED:20190708T034813Z
UID:1102-1569542400-1570147199@outdoorssa.org.au
SUMMARY:Advanced Bushwalking Leadership Course
DESCRIPTION:
URL:https://outdoorssa.org.au/calendar-event/advanced-bushwalking-leadership-course/
LOCATION:Mt Abrupt\, SA\, Australia
CATEGORIES:Bushwalking,Training Course
END:VEVENT
BEGIN:VEVENT
DTSTART;VALUE=DATE:20190921
DTEND;VALUE=DATE:20190923
DTSTAMP:20260423T080743
CREATED:20190708T034235Z
LAST-MODIFIED:20190708T034235Z
UID:1100-1569024000-1569196799@outdoorssa.org.au
SUMMARY:Day Walk Leadership Program Workshop 3
DESCRIPTION:
URL:https://outdoorssa.org.au/calendar-event/day-walk-leadership-program-workshop-3/
LOCATION:Kuitpo
CATEGORIES:Bushwalking,Training Course
END:VEVENT
BEGIN:VEVENT
DTSTART;VALUE=DATE:20190914
DTEND;VALUE=DATE:20190915
DTSTAMP:20260423T080743
CREATED:20190708T034115Z
LAST-MODIFIED:20190708T034115Z
UID:1097-1568419200-1568505599@outdoorssa.org.au
SUMMARY:Day Walk Leadership Program Workshop 2
DESCRIPTION:
URL:https://outdoorssa.org.au/calendar-event/day-walk-leadership-program-workshop-2/
LOCATION:Scout Outdoor Centre\, 192 Rundle street\, Adelaide\, SA\, 5000\, Australia
CATEGORIES:Bushwalking,Training Course
END:VEVENT
BEGIN:VEVENT
DTSTART;VALUE=DATE:20190910
DTEND;VALUE=DATE:20190911
DTSTAMP:20260423T080743
CREATED:20190708T033840Z
LAST-MODIFIED:20190708T033840Z
UID:1095-1568073600-1568159999@outdoorssa.org.au
SUMMARY:Day Walk Leadership Program Workshop
DESCRIPTION:
URL:https://outdoorssa.org.au/calendar-event/day-walk-leadership-program-workshop/
CATEGORIES:Bushwalking,Training Course
END:VEVENT
BEGIN:VEVENT
DTSTART;TZID=Australia/Adelaide:20190825T080000
DTEND;TZID=Australia/Adelaide:20190825T160000
DTSTAMP:20260423T080743
CREATED:20190708T040032Z
LAST-MODIFIED:20190708T040032Z
UID:1111-1566720000-1566748800@outdoorssa.org.au
SUMMARY:Onkaparinga River Race
DESCRIPTION:
URL:https://outdoorssa.org.au/calendar-event/onkaparinga-river-race/
LOCATION:Port Noarlunga Beach\, Port Noarlunga Beach\, Port Noarlunga\, South Australia\, 5167\, Australia
CATEGORIES:Canoeing/Kayaking
END:VEVENT
BEGIN:VEVENT
DTSTART;VALUE=DATE:20190824
DTEND;VALUE=DATE:20190826
DTSTAMP:20260423T080743
CREATED:20190708T033152Z
LAST-MODIFIED:20190708T033152Z
UID:1093-1566604800-1566777599@outdoorssa.org.au
SUMMARY:BLSA Technical Skills Assessment Weekend
DESCRIPTION:
URL:https://outdoorssa.org.au/calendar-event/blsa-technical-skills-assessment-weekend/
LOCATION:North of Burra\, SA\, Australia
CATEGORIES:Bushwalking,Training Course
END:VEVENT
BEGIN:VEVENT
DTSTART;TZID=Australia/Adelaide:20190811T080000
DTEND;TZID=Australia/Adelaide:20190811T160000
DTSTAMP:20260423T080743
CREATED:20190708T035841Z
LAST-MODIFIED:20190708T035841Z
UID:1109-1565510400-1565539200@outdoorssa.org.au
SUMMARY:Trevor Gallard Memorial Race
DESCRIPTION:
URL:https://outdoorssa.org.au/calendar-event/trevor-gallard-memorial-race/
CATEGORIES:Canoeing/Kayaking
END:VEVENT
BEGIN:VEVENT
DTSTART;VALUE=DATE:20190804
DTEND;VALUE=DATE:20190805
DTSTAMP:20260423T080743
CREATED:20190708T043851Z
LAST-MODIFIED:20190708T043851Z
UID:1124-1564876800-1564963199@outdoorssa.org.au
SUMMARY:Gumeracha Goldfields Orienteer of The Year
DESCRIPTION:
URL:https://outdoorssa.org.au/calendar-event/gumeracha-goldfields-orienteer-of-the-year/
CATEGORIES:Orienteering
END:VEVENT
BEGIN:VEVENT
DTSTART;VALUE=DATE:20190727
DTEND;VALUE=DATE:20190729
DTSTAMP:20260423T080743
CREATED:20190708T025423Z
LAST-MODIFIED:20190708T025423Z
UID:1091-1564185600-1564358399@outdoorssa.org.au
SUMMARY:Bushwalking  Leadership Assistant Course Workshop 2
DESCRIPTION:
URL:https://outdoorssa.org.au/calendar-event/bushwalking-leadership-assistant-course-workshop-2-2/
LOCATION:Mount Crawford Forest\, Warren Rd\, Mount Crawford\, SA\, 5351\, Australia
CATEGORIES:Bushwalking,Training Course
END:VEVENT
BEGIN:VEVENT
DTSTART;TZID=Australia/Adelaide:20190721T080000
DTEND;TZID=Australia/Adelaide:20190721T160000
DTSTAMP:20260423T080743
CREATED:20190708T035623Z
LAST-MODIFIED:20190708T035623Z
UID:1107-1563696000-1563724800@outdoorssa.org.au
SUMMARY:Brother Howard Memorial Race
DESCRIPTION:
URL:https://outdoorssa.org.au/calendar-event/brother-howard-memorial-race/
LOCATION:West Lakes\, Aquatic Reserve\, Bower Road\, West Lakes\, South Australia\, 5021\, Australia
CATEGORIES:Canoeing/Kayaking
END:VEVENT
BEGIN:VEVENT
DTSTART;VALUE=DATE:20190713
DTEND;VALUE=DATE:20190715
DTSTAMP:20260423T080743
CREATED:20190708T043040Z
LAST-MODIFIED:20190708T043040Z
UID:1122-1562976000-1563148799@outdoorssa.org.au
SUMMARY:Rock Oyster Orienteering Event
DESCRIPTION:
URL:https://outdoorssa.org.au/calendar-event/rock-oyster-orienteering-event/
CATEGORIES:Orienteering
END:VEVENT
BEGIN:VEVENT
DTSTART;VALUE=DATE:20190712
DTEND;VALUE=DATE:20190715
DTSTAMP:20260423T080743
CREATED:20190708T024851Z
LAST-MODIFIED:20190708T024851Z
UID:1089-1562889600-1563148799@outdoorssa.org.au
SUMMARY:Bushwalking Leadership Assistant Course 3 Day Walk
DESCRIPTION:
URL:https://outdoorssa.org.au/calendar-event/bushwalking-leadership-assistant-course-3-day-walk/
LOCATION:Deep Creek Conservation Park
CATEGORIES:Bushwalking,Training Course
END:VEVENT
BEGIN:VEVENT
DTSTART;VALUE=DATE:20190709
DTEND;VALUE=DATE:20190713
DTSTAMP:20260423T080743
CREATED:20190708T041116Z
LAST-MODIFIED:20190708T041116Z
UID:1120-1562630400-1562975999@outdoorssa.org.au
SUMMARY:SA Junior Arrows Orienteering Camp
DESCRIPTION:
URL:https://outdoorssa.org.au/calendar-event/sa-junior-arrows-orienteering-camp/
LOCATION:Kuitpo
CATEGORIES:Orienteering
END:VEVENT
END:VCALENDAR