BEGIN:VCALENDAR
VERSION:2.0
PRODID:-//Outdoors SA - ECPv6.6.0.2//NONSGML v1.0//EN
CALSCALE:GREGORIAN
METHOD:PUBLISH
X-ORIGINAL-URL:https://outdoorssa.org.au
X-WR-CALDESC:Events for Outdoors SA
REFRESH-INTERVAL;VALUE=DURATION:PT1H
X-Robots-Tag:noindex
X-PUBLISHED-TTL:PT1H
BEGIN:VTIMEZONE
TZID:Australia/Adelaide
BEGIN:STANDARD
TZOFFSETFROM:+1030
TZOFFSETTO:+0930
TZNAME:ACST
DTSTART:20230401T163000
END:STANDARD
BEGIN:DAYLIGHT
TZOFFSETFROM:+0930
TZOFFSETTO:+1030
TZNAME:ACDT
DTSTART:20230930T163000
END:DAYLIGHT
END:VTIMEZONE
BEGIN:VEVENT
DTSTART;VALUE=DATE:20230613
DTEND;VALUE=DATE:20230616
DTSTAMP:20260423T082700
CREATED:20230414T081539Z
LAST-MODIFIED:20230414T081553Z
UID:2550-1686614400-1686873599@outdoorssa.org.au
SUMMARY:Association for Experiential Education Asia-Pacific Regional Conference
DESCRIPTION:Earlybird Tickets are closing to join the first ever Association for Experiential Education Asia-Pacific Regional Conference. Grab a spot for only $150 before the 15 April. \nExperiential educators from around Asia and beyond are traveling to Singapore\, the Garden City to explore ideas about “Sustainability and Inclusivity in Experiential Education\,”.\nJune 13 to 15. \n \n\n\n\nConference Objectives\nThe Association for Experiential Education (AEE) Asia Pacific Regional (in collaboration with SUSS) brings you the inaugural APAC Regional Conference that aims to: \n\nrecognise the good practices of educators\, practitioners and students in experiential education\nexplore ideas and enactment of sustainability and inclusivity in experiential education\ncelebrate partnerships and expand reach through networking and collaboration\ncelebrate the leadership of APAC council in AEE\n\nTheme of Conference\n\n\n\n\n\n\nThe theme of the conference is “Sustainability and Inclusivity in Experiential Education.” We hope that this will be a platform where researchers\, practitioners and students would explore and share sustainability and inclusivity education and practices through experiential learning. \nSome possible themes related to sustainability include avoiding depletion of natural resources\, ecological balance\, sustained functioning of the environment\, reducing one’s impact on the environment\, sharing of good practices\, impact-driven narratives and enhancing the connection with nature. \nThemes around inclusivity may include sharing of findings\, practices\, programmes and/or narratives of the provision of equal access to opportunities and resources to all. \n\n\n\nRegistrations\nFor more info head to https://lnkd.in/gskQt5Y7 \n#equity #inclusion #diversity #outdooreducation #riskmanagement #outdoorrisk #outdoorsafety #wildernessriskmanagement #outdooradventure #experientialeducation #sustainability #environmentaleducation \n\n\n\nKeynote Address: Enabling Experiential Education\, Experiencing Enabling Education \nby Professor Roger Slee (University of Leeds)\nSynopsis: It is difficult to dispute the proposition that the history of education is a history of exclusion for many population cohorts. This continues to be the case for vulnerable population cohorts. Reconstructing education so that it is inclusive is challenging. Sustaining inclusive education is even more difficult. This keynote will consider the possibilities for experiential education as a catalyst for the enduring reconstruction of education across all sectors.\n\n\n\n 
URL:https://outdoorssa.org.au/calendar-event/association-for-experiential-education-asia-pacific-regional-conference/
LOCATION:Singapore University\, S463 Clementi Road Singapore 599494\, Singapore\, Singapore
CATEGORIES:Conference,Training Course
END:VEVENT
BEGIN:VEVENT
DTSTART;VALUE=DATE:20230920
DTEND;VALUE=DATE:20230923
DTSTAMP:20260423T082700
CREATED:20230811T053223Z
LAST-MODIFIED:20230811T053223Z
UID:2576-1695168000-1695427199@outdoorssa.org.au
SUMMARY:ACA National Conference in Adelaide Sept 2023
DESCRIPTION:Join the Australian Camps Association in Adelaide this September! \nRegistration  |  Program  |  Presenter EOI  |  Sponsorship & Trade  |  Venue & Accommodation  |  Social Events  \nWednesday 20th – Friday 22nd September 2023\nRegistration NOW OPEN – click here to register. \nThe biennial National Conference is always a highlight of the Australian Camps Association (ACA) Event Calendar. ACA aim to provide some inspiring professional development as always\, but also want to focus strongly on you – there’ll be plenty of opportunities for fun\, relaxation\, networking\, socialising and perhaps the odd quirky challenge here and there! \nOn the professional development front\, presenters will speak on a wide range of topics. The content will be suitable for managers\, senior staff and activity staff\, so bring your whole team along. Presenter Expression of Interest is NOW OPEN! If you (or someone you know) have a presentation you feel would be appropriate to the camps and led outdoor provider sector we welcome your application to present – apply here. \nACA Conferences are of course about building the camp community so social time is an important integral part of our event. The Conference Dinner event will be a great opportunity to meet and re-connect with friends and colleagues from around the country\, share ideas\, have a laugh and simply enjoy some good food and good company. \nIt is ACA custom to rotate the Conference host state and after a very successful 2021 event in Victoria\, it is now South Australia’s turn. The venue\, the Pullman Adelaide\, is very comfortable and located in the heart of Adelaide\, a short drive from many ACA member camps – perfect for the post Conference camps tour on Friday 22nd September 2023. \nSee more: https://auscamps.asn.au/events/aca-national-conference
URL:https://outdoorssa.org.au/calendar-event/aca-national-conference-in-adelaide-sept-2023/
CATEGORIES:Training Course
END:VEVENT
END:VCALENDAR