BEGIN:VCALENDAR
VERSION:2.0
PRODID:-//Outdoors SA - ECPv6.6.0.2//NONSGML v1.0//EN
CALSCALE:GREGORIAN
METHOD:PUBLISH
X-WR-CALNAME:Outdoors SA
X-ORIGINAL-URL:https://outdoorssa.org.au
X-WR-CALDESC:Events for Outdoors SA
REFRESH-INTERVAL;VALUE=DURATION:PT1H
X-Robots-Tag:noindex
X-PUBLISHED-TTL:PT1H
BEGIN:VTIMEZONE
TZID:Australia/Adelaide
BEGIN:STANDARD
TZOFFSETFROM:+1030
TZOFFSETTO:+0930
TZNAME:ACST
DTSTART:20160402T163000
END:STANDARD
BEGIN:DAYLIGHT
TZOFFSETFROM:+0930
TZOFFSETTO:+1030
TZNAME:ACDT
DTSTART:20161001T163000
END:DAYLIGHT
END:VTIMEZONE
BEGIN:VEVENT
DTSTART;VALUE=DATE:20161008
DTEND;VALUE=DATE:20161015
DTSTAMP:20260423T101408
CREATED:20160805T035550Z
LAST-MODIFIED:20160805T035550Z
UID:766-1475884800-1476489599@outdoorssa.org.au
SUMMARY:BLSA Advanced Bushwalking Leader Course
DESCRIPTION:Become an accredited Walk Leader with this nationally recognised course.  \nThis involves training in the more advanced skills which are relevant to longer walks in more rugged and isolated areas. \n\n– Maximum time for completion\, 18 months.\n– This programme aims at developing a high degree of skill and experience in leadership suitable for longer bushwalks\, including prolonged expeditions in remote and difficult mountain areas.\n\nThis course trains outdoor enthusiasts with experience and skills in bushwalking to a standard appropriate to lead groups of less experienced adults or dependent groups (including students) on bushwalking trips. \nOn completion\, the successful candidate is endorsed to lead walks: \n\n– Of extended journeys of a more demanding nature\n– In Remote & Mountainous Areas of South Eastern Australia\n– That can be off track in difficult conditions\n– Beyond a half day walk of emergency assistance\n– You will also require specific units that will need to be completed to enable Alpine leading.\n\nNo experience is implied in such specialised skills as mountaineering\, rockclimbing\, skiing\, etc. The certificate DOES NOT imply competence and capability in these specialised areas. \nEach candidate is allocated an Advisor\, an experienced bushwalker who assists in developing the candidate’s leadership skills. \nThe Advisor may also recommend that the candidate undertakes additional bushwalking experience before being assessed. \nAssessment includes:\nGeneral Mountain Training \nThe candidate participates in a peer-oriented advanced and difficult trip of at least five days duration in a remote arid mountainous area (or alpine)\, led by an Advanced Instructor. The trip could involve arid or alpine environments. \nInterim Training \nA Minimum of 14 Days Bushwalking Experience. To include at least: \n\n– 1 x 4-day walk in Central to Northern Flinders (north of Hawker)*\n– 1 x 4-day walk I the highland areas of the Eastern States or Tasmania.*\n* The trainee must fulfil a leadership role in at least one of these.\n– 2 x 3-day walks as leader\n\n      – The log of walks listed above must contain at least\n      – one walk in hot and dry conditions within the total program of experience\n\n\n\nWritten Assessment Papers \nWritten assessment papers consist of navigation\, incident response and route planning. \nPlease make an independent arrangement with your adviser to complete this or contact the office to arrange for another adviser to supervise your exam.
URL:https://outdoorssa.org.au/calendar-event/blsa-advanced-bushwalking-leader-course/
LOCATION:SA
CATEGORIES:Bushwalking,Training Course
ATTACH;FMTTYPE=image/jpeg:https://outdoorssa.org.au/wp-content/uploads/2016/08/BLSA-square-logo-1-e1470706190793.jpg
END:VEVENT
BEGIN:VEVENT
DTSTART;VALUE=DATE:20161008
DTEND;VALUE=DATE:20161009
DTSTAMP:20260423T101408
CREATED:20160907T071233Z
LAST-MODIFIED:20160907T071233Z
UID:807-1475884800-1475971199@outdoorssa.org.au
SUMMARY:Great Aussie Camp Out
DESCRIPTION:Great Aussie Camp Out\n \nThe Great Aussie Camp Out encourages individuals\, friends\, families and clubs to come together on one big night (8th of October) and enjoy the great outdoors by experiencing the fun and adventure of camping out.  \nRegister for free and receive access to creative ideas\, simple recipes\, fun activities\, and go into the draw to win some great prizes. \nFind out more here.
URL:https://outdoorssa.org.au/calendar-event/great-aussie-camp/
LOCATION:SA
CATEGORIES:Family
ATTACH;FMTTYPE=image/png:https://outdoorssa.org.au/wp-content/uploads/2016/09/GACO.png
END:VEVENT
END:VCALENDAR